BEGIN:VCALENDAR
VERSION:2.0
PRODID:-//hacksw/handcal//NONSGML v1.0//EN
CALSCALE:GREGORIAN
BEGIN:VEVENT
UID:69eb9831cad1d
DTSTAMP:20260424T162001Z
DESCRIPTION:Rapper Waka Flocka Flame and pop rock singer Knox will perform at this year&#039\;s show.
SUMMARY:Spring Concert 
DTSTART:20250328T230000Z
DTEND:20250329T033000Z
END:VEVENT
END:VCALENDAR
