BEGIN:VCALENDAR
VERSION:2.0
PRODID:-//hacksw/handcal//NONSGML v1.0//EN
CALSCALE:GREGORIAN
BEGIN:VEVENT
UID:69eb9e5361f22
DTSTAMP:20260424T164611Z
DESCRIPTION:Join the Office of Health &amp\; Wellness for their annual mental health awareness event!
SUMMARY:Fresh Check Day
DTSTART:20250919T170000Z
DTEND:20250919T200000Z
END:VEVENT
END:VCALENDAR
