BEGIN:VCALENDAR
VERSION:2.0
PRODID:-//hacksw/handcal//NONSGML v1.0//EN
CALSCALE:GREGORIAN
BEGIN:VEVENT
UID:69e4d63f53a57
DTSTAMP:20260419T131855Z
DESCRIPTION:This program honors campus community members who have made outstanding contributions for the overall betterment of student life at Stonehill.
SUMMARY:2026 Student Life Awards
DTSTART:20260426T173000Z
DTEND:20260426T190000Z
END:VEVENT
END:VCALENDAR
