BEGIN:VCALENDAR
VERSION:2.0
PRODID:-//hacksw/handcal//NONSGML v1.0//EN
CALSCALE:GREGORIAN
BEGIN:VEVENT
UID:69e5064207648
DTSTAMP:20260419T164346Z
DESCRIPTION:Named after former trustees Lawrence and Theresa Salameno\, this lecture series was established to bring reputable historians to campus as guest speakers.
SUMMARY:2026 Salameno History Lecture: Dr. Colin G. Calloway
DTSTART:20260226T213000Z
DTEND:20260226T233000Z
END:VEVENT
END:VCALENDAR
